BEGIN:VCALENDAR
VERSION:2.0
PRODID:-//wp-events-plugin.com//7.2.3.1//EN
TZID:America/Guayaquil
X-WR-TIMEZONE:America/Guayaquil
BEGIN:VEVENT
UID:41@conquito.org.ec
DTSTART;TZID=America/Bogota:20251021T090000
DTEND;TZID=America/Bogota:20251024T120000
DTSTAMP:20251020T162551Z
URL:https://www.conquito.org.ec/formacion/tu-marca-tu-historia-claves-para
 -crear-una-identidad-de-producto-poderosa/
SUMMARY:Tu marca\, tu historia: Claves para crear una identidad  de product
 o poderosa
DESCRIPTION:Desarrollar una identidad de marca auténtica\, diferenciadora 
 y con impacto en el mercado\, fortaleciendo su presencia visual y narrativ
 a.
ATTACH;FMTTYPE=image/jpeg:https://www.conquito.org.ec/wp-content/uploads/2
 025/10/CONQUITO-EN-TU-BARRIO-TU-MARCA.png
CATEGORIES:Empleabilidad
LOCATION:IRFEYAL\, Salvador Bravo y Benancio Estandoque (Solanda)\, Quito\,
  Pichincha\, Ecuador
X-APPLE-STRUCTURED-LOCATION;VALUE=URI;X-ADDRESS=Salvador Bravo y Benancio E
 standoque (Solanda)\, Quito\, Pichincha\, Ecuador;X-APPLE-RADIUS=100;X-TIT
 LE=IRFEYAL:geo:0,0
END:VEVENT
BEGIN:VTIMEZONE
TZID:America/Bogota
X-LIC-LOCATION:America/Bogota
BEGIN:STANDARD
DTSTART:20241021T090000
TZOFFSETFROM:-0500
TZOFFSETTO:-0500
TZNAME:-05
END:STANDARD
END:VTIMEZONE
END:VCALENDAR