BEGIN:VCALENDAR
VERSION:2.0
PRODID:-//wp-events-plugin.com//7.2.3.1//EN
TZID:America/Guayaquil
X-WR-TIMEZONE:America/Guayaquil
BEGIN:VEVENT
UID:183@conquito.org.ec
DTSTART;TZID=America/Bogota:20250908T180000
DTEND;TZID=America/Bogota:20250916T210000
DTSTAMP:20250902T193822Z
URL:https://www.conquito.org.ec/formacion/power-bi-elite-modelado-avanzado
 -para-estrategias-corporativas/
SUMMARY:Power BI élite: Modelado avanzado para estrategias corporativas
DESCRIPTION:Capacitar en modelado avanzado con Power BI para la optimizaci
 ón de reportes\, análisis de datos y toma de decisiones estratégicas.
ATTACH;FMTTYPE=image/jpeg:https://www.conquito.org.ec/wp-content/uploads/2
 025/08/POWER-BI-ELITE.jpg
CATEGORIES:Empleabilidad
LOCATION:ZOOM\, Capacitación\, virtual\, Ecuador
X-APPLE-STRUCTURED-LOCATION;VALUE=URI;X-ADDRESS=Capacitación\, virtual\, E
 cuador;X-APPLE-RADIUS=100;X-TITLE=ZOOM:geo:0,0
END:VEVENT
BEGIN:VTIMEZONE
TZID:America/Bogota
X-LIC-LOCATION:America/Bogota
BEGIN:STANDARD
DTSTART:20240908T180000
TZOFFSETFROM:-0500
TZOFFSETTO:-0500
TZNAME:-05
END:STANDARD
END:VTIMEZONE
END:VCALENDAR