BEGIN:VCALENDAR
VERSION:2.0
PRODID:-//wp-events-plugin.com//7.2.3.1//EN
TZID:America/Guayaquil
X-WR-TIMEZONE:America/Guayaquil
BEGIN:VEVENT
UID:269@conquito.org.ec
DTSTART;TZID=America/Bogota:20260310T100000
DTEND;TZID=America/Bogota:20260310T120000
DTSTAMP:20260309T184529Z
URL:https://www.conquito.org.ec/formacion/permisos-habilitantes-para-estab
 lecimientos/
SUMMARY:Permisos habilitantes para establecimientos
DESCRIPTION:Introducción a Permisos Habilitantes para establecimientos.
ATTACH;FMTTYPE=image/jpeg:https://www.conquito.org.ec/wp-content/uploads/2
 026/03/permisos-habilitantes.jpeg
CATEGORIES:Emprendimiento
LOCATION:Centro de Innovación IQ\, Diego de Almagro y Luis Cordero\, Quito
 \, Ecuador
X-APPLE-STRUCTURED-LOCATION;VALUE=URI;X-ADDRESS=Diego de Almagro y Luis Cor
 dero\, Quito\, Ecuador;X-APPLE-RADIUS=100;X-TITLE=Centro de Innovación IQ
 :geo:0,0
END:VEVENT
BEGIN:VTIMEZONE
TZID:America/Bogota
X-LIC-LOCATION:America/Bogota
BEGIN:STANDARD
DTSTART:20250310T100000
TZOFFSETFROM:-0500
TZOFFSETTO:-0500
TZNAME:-05
END:STANDARD
END:VTIMEZONE
END:VCALENDAR