BEGIN:VCALENDAR
VERSION:2.0
PRODID:-//wp-events-plugin.com//7.2.3.1//EN
TZID:America/Guayaquil
X-WR-TIMEZONE:America/Guayaquil
BEGIN:VEVENT
UID:184@conquito.org.ec
DTSTART;TZID=America/Bogota:20251210T120000
DTEND;TZID=America/Bogota:20251210T130000
DTSTAMP:20251203T200657Z
URL:https://www.conquito.org.ec/formacion/patente-y-luae/
SUMMARY:Patente y LUAE
DESCRIPTION:Brindar información para formalización de los negocios 
ATTACH;FMTTYPE=image/jpeg:https://www.conquito.org.ec/wp-content/uploads/2
 025/10/PATENTE-Y-LUAE-1.jpg
CATEGORIES:Emprendimiento
LOCATION:ZOOM\, Capacitación\, virtual\, Ecuador
X-APPLE-STRUCTURED-LOCATION;VALUE=URI;X-ADDRESS=Capacitación\, virtual\, E
 cuador;X-APPLE-RADIUS=100;X-TITLE=ZOOM:geo:0,0
END:VEVENT
BEGIN:VTIMEZONE
TZID:America/Bogota
X-LIC-LOCATION:America/Bogota
BEGIN:STANDARD
DTSTART:20241210T120000
TZOFFSETFROM:-0500
TZOFFSETTO:-0500
TZNAME:-05
END:STANDARD
END:VTIMEZONE
END:VCALENDAR