BEGIN:VCALENDAR
VERSION:2.0
PRODID:-//wp-events-plugin.com//7.2.3.1//EN
TZID:America/Guayaquil
X-WR-TIMEZONE:America/Guayaquil
BEGIN:VEVENT
UID:267@conquito.org.ec
DTSTART;TZID=America/Bogota:20260319T093000
DTEND;TZID=America/Bogota:20260319T120000
DTSTAMP:20260311T132538Z
URL:https://www.conquito.org.ec/formacion/pasos-para-constituir-cajas-de-a
 horro/
SUMMARY:Pasos para constituir Cajas de Ahorro
DESCRIPTION:Brindar elementos prácticos para la conformación y operativiz
 ación de una caja de ahorro/banca comunal.
ATTACH;FMTTYPE=image/jpeg:https://www.conquito.org.ec/wp-content/uploads/2
 025/10/PASOS-CAJAS-DE-AHORRO-Y-CREDITO.jpg
CATEGORIES:EPS
LOCATION:ConQuito\, Av. Jaime del Castillo oe1-172\, Quito 170111\, Quito\,
  Pichincha\, 170111\, Ecuador
X-APPLE-STRUCTURED-LOCATION;VALUE=URI;X-ADDRESS=Av. Jaime del Castillo oe1-
 172\, Quito 170111\, Quito\, Pichincha\, 170111\, Ecuador;X-APPLE-RADIUS=1
 00;X-TITLE=ConQuito:geo:0,0
END:VEVENT
BEGIN:VTIMEZONE
TZID:America/Bogota
X-LIC-LOCATION:America/Bogota
BEGIN:STANDARD
DTSTART:20250319T093000
TZOFFSETFROM:-0500
TZOFFSETTO:-0500
TZNAME:-05
END:STANDARD
END:VTIMEZONE
END:VCALENDAR