BEGIN:VCALENDAR
VERSION:2.0
PRODID:-//wp-events-plugin.com//7.2.3.1//EN
TZID:America/Guayaquil
X-WR-TIMEZONE:America/Guayaquil
BEGIN:VEVENT
UID:260@conquito.org.ec
DTSTART;TZID=America/Bogota:20260212T100000
DTEND;TZID=America/Bogota:20260212T120000
DTSTAMP:20260206T203520Z
URL:https://www.conquito.org.ec/formacion/obtencion-de-notificaciones-sani
 tarias-para-alimentos-y-cosmeticos/
SUMMARY:Obtención de notificaciones sanitarias para alimentos y cosmético
 s
DESCRIPTION:Introducción a obtención de notificaciones sanitarias para al
 imentos y cosméticos
ATTACH;FMTTYPE=image/jpeg:https://www.conquito.org.ec/wp-content/uploads/2
 026/02/notificacion-sanitaria-cosmeticos.png
CATEGORIES:Emprendimiento
LOCATION:ConQuito\, Av. Jaime del Castillo oe1-172\, Quito 170111\, Quito\,
  Pichincha\, 170111\, Ecuador
X-APPLE-STRUCTURED-LOCATION;VALUE=URI;X-ADDRESS=Av. Jaime del Castillo oe1-
 172\, Quito 170111\, Quito\, Pichincha\, 170111\, Ecuador;X-APPLE-RADIUS=1
 00;X-TITLE=ConQuito:geo:0,0
END:VEVENT
BEGIN:VTIMEZONE
TZID:America/Bogota
X-LIC-LOCATION:America/Bogota
BEGIN:STANDARD
DTSTART:20250212T100000
TZOFFSETFROM:-0500
TZOFFSETTO:-0500
TZNAME:-05
END:STANDARD
END:VTIMEZONE
END:VCALENDAR