BEGIN:VCALENDAR
VERSION:2.0
PRODID:-//wp-events-plugin.com//7.2.3.1//EN
TZID:America/Guayaquil
X-WR-TIMEZONE:America/Guayaquil
BEGIN:VEVENT
UID:209@conquito.org.ec
DTSTART;TZID=America/Bogota:20260320T140000
DTEND;TZID=America/Bogota:20260320T170000
DTSTAMP:20260311T132915Z
URL:https://www.conquito.org.ec/formacion/manejo-del-cultivo-de-tomate-de-
 arbol/
SUMMARY:Manejo del cultivo de tomate de árbol
DESCRIPTION:Establecer los requerimientos y manejo técnico del cultivo de 
 tomate de árbol
ATTACH;FMTTYPE=image/jpeg:https://www.conquito.org.ec/wp-content/uploads/2
 025/10/CULTIVO-DE-TOMATE-DE-ARBOL.jpg
CATEGORIES:EPS
LOCATION:ZOOM\, Capacitación\, virtual\, Ecuador
X-APPLE-STRUCTURED-LOCATION;VALUE=URI;X-ADDRESS=Capacitación\, virtual\, E
 cuador;X-APPLE-RADIUS=100;X-TITLE=ZOOM:geo:0,0
END:VEVENT
BEGIN:VTIMEZONE
TZID:America/Bogota
X-LIC-LOCATION:America/Bogota
BEGIN:STANDARD
DTSTART:20250320T140000
TZOFFSETFROM:-0500
TZOFFSETTO:-0500
TZNAME:-05
END:STANDARD
END:VTIMEZONE
END:VCALENDAR