BEGIN:VCALENDAR
VERSION:2.0
PRODID:-//wp-events-plugin.com//7.2.3.1//EN
TZID:America/Guayaquil
X-WR-TIMEZONE:America/Guayaquil
BEGIN:VEVENT
UID:270@conquito.org.ec
DTSTART;TZID=America/Bogota:20260422T110000
DTEND;TZID=America/Bogota:20260422T130000
DTSTAMP:20260415T210627Z
URL:https://www.conquito.org.ec/formacion/luae/
SUMMARY:Licencia Metropolitana Única para el Ejercicio de Actividades Econ
 ómicas (LUAE)
DESCRIPTION:Procesos  para  la  obtención  de  la  Licencia  Metropolitana
   Única  para  el Ejercicio de Actividades Económicas (LUAE)
ATTACH;FMTTYPE=image/jpeg:https://www.conquito.org.ec/wp-content/uploads/2
 025/03/LUAE.jpg
CATEGORIES:Emprendimiento
LOCATION:ZOOM\, Capacitación\, virtual\, Ecuador
X-APPLE-STRUCTURED-LOCATION;VALUE=URI;X-ADDRESS=Capacitación\, virtual\, E
 cuador;X-APPLE-RADIUS=100;X-TITLE=ZOOM:geo:0,0
END:VEVENT
BEGIN:VTIMEZONE
TZID:America/Bogota
X-LIC-LOCATION:America/Bogota
BEGIN:STANDARD
DTSTART:20250422T110000
TZOFFSETFROM:-0500
TZOFFSETTO:-0500
TZNAME:-05
END:STANDARD
END:VTIMEZONE
END:VCALENDAR