BEGIN:VCALENDAR
VERSION:2.0
PRODID:-//wp-events-plugin.com//7.2.3.1//EN
TZID:America/Guayaquil
X-WR-TIMEZONE:America/Guayaquil
BEGIN:VEVENT
UID:213@conquito.org.ec
DTSTART;TZID=America/Bogota:20251023T093000
DTEND;TZID=America/Bogota:20251030T123000
DTSTAMP:20251021T155805Z
URL:https://www.conquito.org.ec/formacion/ingles-de-negocios-pro-habla-ven
 de-y-negocia/
SUMMARY:Inglés de Negocios Pro: Habla\, Vende y Negocia
DESCRIPTION:Desarrollar competencias comunicativas en inglés orientadas al
  mundo de los negocios\, fortaleciendo la seguridad y fluidez de los parti
 cipantes para expresarse en contextos profesionales para desenvolverse efi
 cazmente en presentaciones\, procesos de ventas y negociaciones internacio
 nales\, ampliando así sus oportunidades de crecimiento laboral y comercia
 l en entornos globales.
ATTACH;FMTTYPE=image/jpeg:https://www.conquito.org.ec/wp-content/uploads/2
 025/10/INGLES-DE-NEGOCIOS-PRO-act.jpg
CATEGORIES:Empleabilidad
LOCATION:ZOOM\, Capacitación\, virtual\, Ecuador
X-APPLE-STRUCTURED-LOCATION;VALUE=URI;X-ADDRESS=Capacitación\, virtual\, E
 cuador;X-APPLE-RADIUS=100;X-TITLE=ZOOM:geo:0,0
END:VEVENT
BEGIN:VTIMEZONE
TZID:America/Bogota
X-LIC-LOCATION:America/Bogota
BEGIN:STANDARD
DTSTART:20241023T093000
TZOFFSETFROM:-0500
TZOFFSETTO:-0500
TZNAME:-05
END:STANDARD
END:VTIMEZONE
END:VCALENDAR