BEGIN:VCALENDAR
VERSION:2.0
PRODID:-//wp-events-plugin.com//7.2.3.1//EN
TZID:America/Guayaquil
X-WR-TIMEZONE:America/Guayaquil
BEGIN:VEVENT
UID:185@conquito.org.ec
DTSTART;TZID=America/Bogota:20250910T100000
DTEND;TZID=America/Bogota:20250910T120000
DTSTAMP:20250904T183149Z
URL:https://www.conquito.org.ec/formacion/herramientas-de-ia-en-photoshop-
 para-potenciar-tu-trabajo/
SUMMARY:Herramientas de IA en Photoshop para potenciar tu trabajo
DESCRIPTION:Explorar herramientas de inteligencia artificial aplicadas a Ph
 otoshop para optimizar flujos de trabajo y mejorar la calidad del diseño 
 gráfico.
ATTACH;FMTTYPE=image/jpeg:https://www.conquito.org.ec/wp-content/uploads/2
 025/08/HERRAMIENTAS-DE-IA.jpg
CATEGORIES:Empleabilidad
LOCATION:ConQuito\, Av. Jaime del Castillo oe1-172\, Quito 170111\, Quito\,
  Pichincha\, 170111\, Ecuador
X-APPLE-STRUCTURED-LOCATION;VALUE=URI;X-ADDRESS=Av. Jaime del Castillo oe1-
 172\, Quito 170111\, Quito\, Pichincha\, 170111\, Ecuador;X-APPLE-RADIUS=1
 00;X-TITLE=ConQuito:geo:0,0
END:VEVENT
BEGIN:VTIMEZONE
TZID:America/Bogota
X-LIC-LOCATION:America/Bogota
BEGIN:STANDARD
DTSTART:20240910T100000
TZOFFSETFROM:-0500
TZOFFSETTO:-0500
TZNAME:-05
END:STANDARD
END:VTIMEZONE
END:VCALENDAR