BEGIN:VCALENDAR
VERSION:2.0
PRODID:-//wp-events-plugin.com//7.2.3.1//EN
TZID:America/Guayaquil
X-WR-TIMEZONE:America/Guayaquil
BEGIN:VEVENT
UID:274@conquito.org.ec
DTSTART;TZID=America/Bogota:20260323T180000
DTEND;TZID=America/Bogota:20260327T210000
DTSTAMP:20260318T211020Z
URL:https://www.conquito.org.ec/formacion/google-workspace-e-inteligencia-
 artificial/
SUMMARY:Google Workspace e Inteligencia Artificial para la Productividad Pr
 ofesional
DESCRIPTION:Gestión profesional del correo y la comunicación
ATTACH;FMTTYPE=image/jpeg:https://www.conquito.org.ec/wp-content/uploads/2
 025/10/GOOGLE-WORKSPACE.jpg
CATEGORIES:Empleabilidad
LOCATION:ZOOM\, Capacitación\, virtual\, Ecuador
X-APPLE-STRUCTURED-LOCATION;VALUE=URI;X-ADDRESS=Capacitación\, virtual\, E
 cuador;X-APPLE-RADIUS=100;X-TITLE=ZOOM:geo:0,0
END:VEVENT
BEGIN:VTIMEZONE
TZID:America/Bogota
X-LIC-LOCATION:America/Bogota
BEGIN:STANDARD
DTSTART:20250323T180000
TZOFFSETFROM:-0500
TZOFFSETTO:-0500
TZNAME:-05
END:STANDARD
END:VTIMEZONE
END:VCALENDAR