BEGIN:VCALENDAR
VERSION:2.0
PRODID:-//wp-events-plugin.com//7.2.3.1//EN
TZID:America/Guayaquil
X-WR-TIMEZONE:America/Guayaquil
BEGIN:VEVENT
UID:278@conquito.org.ec
DTSTART;TZID=America/Guayaquil:20260401T093000
DTEND;TZID=America/Guayaquil:20260409T123000
DTSTAMP:20260325T171406Z
URL:https://www.conquito.org.ec/formacion/gestion-de-obligaciones-tributar
 ias-en-negocios-registros-plazos-y-cumplimiento/
SUMMARY:Gestión de obligaciones tributarias en negocios: registros\, plazo
 s y cumplimiento
DESCRIPTION:Principales obligaciones tributarias de los negocios según su 
 actividad
ATTACH;FMTTYPE=image/jpeg:https://www.conquito.org.ec/wp-content/uploads/2
 026/03/obligaciones-tributarias-act.jpeg
CATEGORIES:Empleabilidad
LOCATION:ConQuito\, Av. Jaime del Castillo oe1-172\, Quito 170111\, Quito\,
  Pichincha\, 170111\, Ecuador
X-APPLE-STRUCTURED-LOCATION;VALUE=URI;X-ADDRESS=Av. Jaime del Castillo oe1-
 172\, Quito 170111\, Quito\, Pichincha\, 170111\, Ecuador;X-APPLE-RADIUS=1
 00;X-TITLE=ConQuito:geo:0,0
END:VEVENT
BEGIN:VTIMEZONE
TZID:America/Guayaquil
X-LIC-LOCATION:America/Guayaquil
BEGIN:STANDARD
DTSTART:20250401T093000
TZOFFSETFROM:-0500
TZOFFSETTO:-0500
TZNAME:-05
END:STANDARD
END:VTIMEZONE
END:VCALENDAR