BEGIN:VCALENDAR
VERSION:2.0
PRODID:-//wp-events-plugin.com//7.2.3.1//EN
TZID:America/Guayaquil
X-WR-TIMEZONE:America/Guayaquil
BEGIN:VEVENT
UID:186@conquito.org.ec
DTSTART;TZID=America/Bogota:20250911T093000
DTEND;TZID=America/Bogota:20250911T123000
DTSTAMP:20250910T151354Z
URL:https://www.conquito.org.ec/formacion/exporta-tu-marca-cruzando-fronte
 ras/
SUMMARY:Exporta tu marca cruzando fronteras
DESCRIPTION:Aplicar herramientas y estrategias prácticas de posicionamient
 o comercial\, para preparar emprendimientos ecuatorianos con potencial exp
 ortador a ingresar al mercado italiano de forma más efectiva (mejorando s
 us materiales de presentación\, narrativa de producto y comprensión del 
 comprador internacional).
ATTACH;FMTTYPE=image/jpeg:https://www.conquito.org.ec/wp-content/uploads/2
 025/08/EXPORTA-TU-MARCA.jpg
CATEGORIES:Emprendimiento
LOCATION:ConQuito\, Av. Jaime del Castillo oe1-172\, Quito 170111\, Quito\,
  Pichincha\, 170111\, Ecuador
X-APPLE-STRUCTURED-LOCATION;VALUE=URI;X-ADDRESS=Av. Jaime del Castillo oe1-
 172\, Quito 170111\, Quito\, Pichincha\, 170111\, Ecuador;X-APPLE-RADIUS=1
 00;X-TITLE=ConQuito:geo:0,0
END:VEVENT
BEGIN:VTIMEZONE
TZID:America/Bogota
X-LIC-LOCATION:America/Bogota
BEGIN:STANDARD
DTSTART:20240911T093000
TZOFFSETFROM:-0500
TZOFFSETTO:-0500
TZNAME:-05
END:STANDARD
END:VTIMEZONE
END:VCALENDAR