BEGIN:VCALENDAR
VERSION:2.0
PRODID:-//wp-events-plugin.com//7.2.3.1//EN
TZID:America/Guayaquil
X-WR-TIMEZONE:America/Guayaquil
BEGIN:VEVENT
UID:258@conquito.org.ec
DTSTART;TZID=America/Bogota:20260128T103000
DTEND;TZID=America/Bogota:20260128T123000
DTSTAMP:20260122T145021Z
URL:https://www.conquito.org.ec/formacion/errores-comunes-de-los-emprended
 ores-que-los-llevan-al-valle-de-la-muerte/
SUMMARY:Errores comunes de los emprendedores que los llevan al valle de la 
 muerte
DESCRIPTION:Sensibilizar a los emprendedores sobre la importancia del lider
 azgo y la toma de decisiones estratégicas\, identificando los errores má
 s frecuentes que ponen en riesgo la sostenibilidad y crecimiento de sus ne
 gocios.
ATTACH;FMTTYPE=image/jpeg:https://www.conquito.org.ec/wp-content/uploads/2
 026/01/ERRORES-COMUNES-DE-LOS-EMPRENDEDORES2.jpg
CATEGORIES:Emprendimiento
LOCATION:Centro de Innovación IQ\, Diego de Almagro y Luis Cordero\, Quito
 \, Ecuador
X-APPLE-STRUCTURED-LOCATION;VALUE=URI;X-ADDRESS=Diego de Almagro y Luis Cor
 dero\, Quito\, Ecuador;X-APPLE-RADIUS=100;X-TITLE=Centro de Innovación IQ
 :geo:0,0
END:VEVENT
BEGIN:VTIMEZONE
TZID:America/Bogota
X-LIC-LOCATION:America/Bogota
BEGIN:STANDARD
DTSTART:20250128T103000
TZOFFSETFROM:-0500
TZOFFSETTO:-0500
TZNAME:-05
END:STANDARD
END:VTIMEZONE
END:VCALENDAR