BEGIN:VCALENDAR
VERSION:2.0
PRODID:-//wp-events-plugin.com//7.2.3.1//EN
TZID:America/Guayaquil
X-WR-TIMEZONE:America/Guayaquil
BEGIN:VEVENT
UID:177@conquito.org.ec
DTSTART;TZID=America/Bogota:20250829T090000
DTEND;TZID=America/Bogota:20250829T130000
DTSTAMP:20250822T184843Z
URL:https://www.conquito.org.ec/formacion/el-arte-de-entender-a-tu-cliente
 -entiende-y-conquista-a-tu-cliente/
SUMMARY:El arte de Entender a tu cliente Entiende y conquista a tu cliente
DESCRIPTION:Este taller permitirá a los participantes comprender y constru
 ir el mapa del customer journey de su cliente ideal\, identificando puntos
  de contacto\, emociones\, miedos\, alegrías y oportunidades de mejora.
ATTACH;FMTTYPE=image/jpeg:https://www.conquito.org.ec/wp-content/uploads/2
 025/08/EL-ARTE-DE-ENTENDER-A-TU-CLIENTE.jpg
CATEGORIES:Emprendimiento
LOCATION:ConQuito\, Av. Jaime del Castillo oe1-172\, Quito 170111\, Quito\,
  Pichincha\, 170111\, Ecuador
X-APPLE-STRUCTURED-LOCATION;VALUE=URI;X-ADDRESS=Av. Jaime del Castillo oe1-
 172\, Quito 170111\, Quito\, Pichincha\, 170111\, Ecuador;X-APPLE-RADIUS=1
 00;X-TITLE=ConQuito:geo:0,0
END:VEVENT
BEGIN:VTIMEZONE
TZID:America/Bogota
X-LIC-LOCATION:America/Bogota
BEGIN:STANDARD
DTSTART:20240829T090000
TZOFFSETFROM:-0500
TZOFFSETTO:-0500
TZNAME:-05
END:STANDARD
END:VTIMEZONE
END:VCALENDAR