BEGIN:VCALENDAR
VERSION:2.0
PRODID:-//wp-events-plugin.com//7.2.3.1//EN
TZID:America/Guayaquil
X-WR-TIMEZONE:America/Guayaquil
BEGIN:VEVENT
UID:259@conquito.org.ec
DTSTART;TZID=America/Bogota:20260205T100000
DTEND;TZID=America/Bogota:20260205T130000
DTSTAMP:20260203T131324Z
URL:https://www.conquito.org.ec/formacion/domina-tu-impuesto-a-la-renta-pr
 otege-tus-ingresos/
SUMMARY:Domina tu impuesto a la renta\, protege tus ingresos
DESCRIPTION:Aprende a calcular y declarar correctamente el impuesto a la re
 nta.
ATTACH;FMTTYPE=image/jpeg:https://www.conquito.org.ec/wp-content/uploads/2
 026/02/IMPUESTO-A-LA-RENTA-1.jpg
CATEGORIES:Emprendimiento
LOCATION:ConQuito\, Av. Jaime del Castillo oe1-172\, Quito 170111\, Quito\,
  Pichincha\, 170111\, Ecuador
X-APPLE-STRUCTURED-LOCATION;VALUE=URI;X-ADDRESS=Av. Jaime del Castillo oe1-
 172\, Quito 170111\, Quito\, Pichincha\, 170111\, Ecuador;X-APPLE-RADIUS=1
 00;X-TITLE=ConQuito:geo:0,0
END:VEVENT
BEGIN:VTIMEZONE
TZID:America/Bogota
X-LIC-LOCATION:America/Bogota
BEGIN:STANDARD
DTSTART:20250205T100000
TZOFFSETFROM:-0500
TZOFFSETTO:-0500
TZNAME:-05
END:STANDARD
END:VTIMEZONE
END:VCALENDAR