BEGIN:VCALENDAR
VERSION:2.0
PRODID:-//wp-events-plugin.com//7.2.3.1//EN
TZID:America/Guayaquil
X-WR-TIMEZONE:America/Guayaquil
BEGIN:VEVENT
UID:50@conquito.org.ec
DTSTART;TZID=America/Bogota:20250429T090000
DTEND;TZID=America/Bogota:20250506T120000
DTSTAMP:20250424T213238Z
URL:https://www.conquito.org.ec/formacion/diseno-y-marketing-estrategico-p
 ara-comercializar-productos/
SUMMARY:Diseño y marketing estratégico para comercializar productos
DESCRIPTION:Aprende de estrategias de marketing digital y diseño estratég
 ico para mejorar la comercialización de productos y aumentar su competiti
 vidad.
ATTACH;FMTTYPE=image/jpeg:https://www.conquito.org.ec/wp-content/uploads/2
 025/03/DISENO-Y-MARKETING1.png
CATEGORIES:Empleabilidad
LOCATION:ConQuito\, Av. Jaime del Castillo oe1-172\, Quito 170111\, Quito\,
  Pichincha\, 170111\, Ecuador
X-APPLE-STRUCTURED-LOCATION;VALUE=URI;X-ADDRESS=Av. Jaime del Castillo oe1-
 172\, Quito 170111\, Quito\, Pichincha\, 170111\, Ecuador;X-APPLE-RADIUS=1
 00;X-TITLE=ConQuito:geo:0,0
END:VEVENT
BEGIN:VTIMEZONE
TZID:America/Bogota
X-LIC-LOCATION:America/Bogota
BEGIN:STANDARD
DTSTART:20240429T090000
TZOFFSETFROM:-0500
TZOFFSETTO:-0500
TZNAME:-05
END:STANDARD
END:VTIMEZONE
END:VCALENDAR