BEGIN:VCALENDAR
VERSION:2.0
PRODID:-//wp-events-plugin.com//7.2.3.1//EN
TZID:America/Guayaquil
X-WR-TIMEZONE:America/Guayaquil
BEGIN:VEVENT
UID:254@conquito.org.ec
DTSTART;TZID=America/Bogota:20260113T100000
DTEND;TZID=America/Bogota:20260113T120000
DTSTAMP:20260109T194838Z
URL:https://www.conquito.org.ec/formacion/diferencias-entre-codigo-bpm-y-r
 egsitro-notificacion-sanitaria/
SUMMARY:Diferencia entre notificaciones sanitarias y código BPM
DESCRIPTION:Aprende a generar habilidades para establecer una idea de negoc
 ios válida\, con la finalidad de identificar debilidades y fortalezas des
 de diferentes perspectivas.
ATTACH;FMTTYPE=image/jpeg:https://www.conquito.org.ec/wp-content/uploads/2
 025/12/diferencias-codigo-bpm.jpeg
CATEGORIES:Emprendimiento
LOCATION:ConQuito\, Av. Jaime del Castillo oe1-172\, Quito 170111\, Quito\,
  Pichincha\, 170111\, Ecuador
X-APPLE-STRUCTURED-LOCATION;VALUE=URI;X-ADDRESS=Av. Jaime del Castillo oe1-
 172\, Quito 170111\, Quito\, Pichincha\, 170111\, Ecuador;X-APPLE-RADIUS=1
 00;X-TITLE=ConQuito:geo:0,0
END:VEVENT
BEGIN:VTIMEZONE
TZID:America/Bogota
X-LIC-LOCATION:America/Bogota
BEGIN:STANDARD
DTSTART:20250113T100000
TZOFFSETFROM:-0500
TZOFFSETTO:-0500
TZNAME:-05
END:STANDARD
END:VTIMEZONE
END:VCALENDAR