BEGIN:VCALENDAR
VERSION:2.0
PRODID:-//wp-events-plugin.com//7.2.3.1//EN
TZID:America/Guayaquil
X-WR-TIMEZONE:America/Guayaquil
BEGIN:VEVENT
UID:271@conquito.org.ec
DTSTART;TZID=America/Bogota:20260312T100000
DTEND;TZID=America/Bogota:20260312T120000
DTSTAMP:20260306T172612Z
URL:https://www.conquito.org.ec/formacion/del-emprendimiento-al-mercado-ch
 eck-list-para-un-crecimiento-ordenado/
SUMMARY:Del emprendimiento al mercado: Check list para un crecimiento orden
 ado
DESCRIPTION:Diagnóstico del nivel de madurez del emprendimiento\, definici
 ón clara de propuesta de valor\, análisis de mercado y segmentación de 
 clientes\, estructura de costos y fijación de precios\, y preparación pa
 ra procesos de comercialización formal.
ATTACH;FMTTYPE=image/jpeg:https://www.conquito.org.ec/wp-content/uploads/2
 025/10/DEL-EMPRENDIMIENTO-AL-MERCADO.jpg
CATEGORIES:Emprendimiento
LOCATION:Centro de Innovación IQ\, Diego de Almagro y Luis Cordero\, Quito
 \, Ecuador
X-APPLE-STRUCTURED-LOCATION;VALUE=URI;X-ADDRESS=Diego de Almagro y Luis Cor
 dero\, Quito\, Ecuador;X-APPLE-RADIUS=100;X-TITLE=Centro de Innovación IQ
 :geo:0,0
END:VEVENT
BEGIN:VTIMEZONE
TZID:America/Bogota
X-LIC-LOCATION:America/Bogota
BEGIN:STANDARD
DTSTART:20250312T100000
TZOFFSETFROM:-0500
TZOFFSETTO:-0500
TZNAME:-05
END:STANDARD
END:VTIMEZONE
END:VCALENDAR