BEGIN:VCALENDAR
VERSION:2.0
PRODID:-//wp-events-plugin.com//7.2.3.1//EN
TZID:America/Guayaquil
X-WR-TIMEZONE:America/Guayaquil
BEGIN:VEVENT
UID:272@conquito.org.ec
DTSTART;TZID=America/Bogota:20260320T100000
DTEND;TZID=America/Bogota:20260320T120000
DTSTAMP:20260317T171121Z
URL:https://www.conquito.org.ec/formacion/de-la-idea-al-negocio-rentable/
SUMMARY:De la idea al negocio rentable: cómo crear\, innovar y consolidar 
 una empresa sostenible en el mercado
DESCRIPTION:Brindar a los emprendedores una hoja de ruta clara para consoli
 dar una empresa estructurada
ATTACH;FMTTYPE=image/jpeg:https://www.conquito.org.ec/wp-content/uploads/2
 025/10/DE-LA-IDEA-AL-NEGOCIO-RENTABLE.jpg
CATEGORIES:Emprendimiento
LOCATION:Centro de Innovación IQ\, Diego de Almagro y Luis Cordero\, Quito
 \, Ecuador
X-APPLE-STRUCTURED-LOCATION;VALUE=URI;X-ADDRESS=Diego de Almagro y Luis Cor
 dero\, Quito\, Ecuador;X-APPLE-RADIUS=100;X-TITLE=Centro de Innovación IQ
 :geo:0,0
END:VEVENT
BEGIN:VTIMEZONE
TZID:America/Bogota
X-LIC-LOCATION:America/Bogota
BEGIN:STANDARD
DTSTART:20250320T100000
TZOFFSETFROM:-0500
TZOFFSETTO:-0500
TZNAME:-05
END:STANDARD
END:VTIMEZONE
END:VCALENDAR