BEGIN:VCALENDAR
VERSION:2.0
PRODID:-//wp-events-plugin.com//7.2.3.1//EN
TZID:America/Guayaquil
X-WR-TIMEZONE:America/Guayaquil
BEGIN:VEVENT
UID:170@conquito.org.ec
DTSTART;TZID=America/Bogota:20250825T180000
DTEND;TZID=America/Bogota:20250902T210000
DTSTAMP:20250823T205111Z
URL:https://www.conquito.org.ec/formacion/dashboards-para-proyectos-corpor
 ativos-con-power-bi/
SUMMARY:Dashboards para proyectos corporativos con Power BI
DESCRIPTION:Desarrollar dashboards corporativos efectivos que permitan la v
 isualización y el análisis estratégico de datos en entornos empresarial
 es.
ATTACH;FMTTYPE=image/jpeg:https://www.conquito.org.ec/wp-content/uploads/2
 025/08/WhatsApp-Image-2025-08-15-at-8.55.22-AM.jpeg
CATEGORIES:Empleabilidad
LOCATION:ZOOM\, Capacitación\, virtual\, Ecuador
X-APPLE-STRUCTURED-LOCATION;VALUE=URI;X-ADDRESS=Capacitación\, virtual\, E
 cuador;X-APPLE-RADIUS=100;X-TITLE=ZOOM:geo:0,0
END:VEVENT
BEGIN:VTIMEZONE
TZID:America/Bogota
X-LIC-LOCATION:America/Bogota
BEGIN:STANDARD
DTSTART:20240825T180000
TZOFFSETFROM:-0500
TZOFFSETTO:-0500
TZNAME:-05
END:STANDARD
END:VTIMEZONE
END:VCALENDAR