BEGIN:VCALENDAR
VERSION:2.0
PRODID:-//wp-events-plugin.com//7.2.3.1//EN
TZID:America/Guayaquil
X-WR-TIMEZONE:America/Guayaquil
BEGIN:VEVENT
UID:214@conquito.org.ec
DTSTART;TZID=America/Bogota:20251003T090000
DTEND;TZID=America/Bogota:20251003T120000
DTSTAMP:20251006T154131Z
URL:https://www.conquito.org.ec/formacion/crianza-de-gallinas-de-postura/
SUMMARY:Crianza de gallinas de postura
DESCRIPTION:Establecer los requerimientos y manejo técnico del cultivo de 
 mora
ATTACH;FMTTYPE=image/jpeg:https://www.conquito.org.ec/wp-content/uploads/2
 025/10/CRIANZA-DE-GALLINAS.png
CATEGORIES:EPS
LOCATION:ZOOM\, Capacitación\, virtual\, Ecuador
X-APPLE-STRUCTURED-LOCATION;VALUE=URI;X-ADDRESS=Capacitación\, virtual\, E
 cuador;X-APPLE-RADIUS=100;X-TITLE=ZOOM:geo:0,0
END:VEVENT
BEGIN:VTIMEZONE
TZID:America/Bogota
X-LIC-LOCATION:America/Bogota
BEGIN:STANDARD
DTSTART:20241003T090000
TZOFFSETFROM:-0500
TZOFFSETTO:-0500
TZNAME:-05
END:STANDARD
END:VTIMEZONE
END:VCALENDAR