BEGIN:VCALENDAR
VERSION:2.0
PRODID:-//wp-events-plugin.com//7.2.3.1//EN
TZID:America/Guayaquil
X-WR-TIMEZONE:America/Guayaquil
BEGIN:VEVENT
UID:265@conquito.org.ec
DTSTART;TZID=America/Bogota:20260413T100000
DTEND;TZID=America/Bogota:20260701T130000
DTSTAMP:20260407T150033Z
URL:https://www.conquito.org.ec/formacion/corte-y-confeccion/
SUMMARY:Corte y confección
DESCRIPTION:Aprende a comunicarte de manera clara y segura\, asegurando que
  tus mensajes sean entendidos.
ATTACH;FMTTYPE=image/jpeg:https://www.conquito.org.ec/wp-content/uploads/2
 026/02/corte-y-confeccion-1.jpeg
CATEGORIES:Empleabilidad
LOCATION:Albergue San Juan de Dios\, Calle Túmbez #Oe6-98 y\, Bahía de Ca
 ráquez\, Quito\, Ecuador
X-APPLE-STRUCTURED-LOCATION;VALUE=URI;X-ADDRESS=Calle Túmbez #Oe6-98 y\, B
 ahía de Caráquez\, Quito\, Ecuador;X-APPLE-RADIUS=100;X-TITLE=Albergue S
 an Juan de Dios:geo:0,0
END:VEVENT
BEGIN:VTIMEZONE
TZID:America/Bogota
X-LIC-LOCATION:America/Bogota
BEGIN:STANDARD
DTSTART:20250413T100000
TZOFFSETFROM:-0500
TZOFFSETTO:-0500
TZNAME:-05
END:STANDARD
END:VTIMEZONE
END:VCALENDAR