BEGIN:VCALENDAR
VERSION:2.0
PRODID:-//wp-events-plugin.com//7.2.3.1//EN
TZID:America/Guayaquil
X-WR-TIMEZONE:America/Guayaquil
BEGIN:VEVENT
UID:268@conquito.org.ec
DTSTART;TZID=America/Bogota:20260417T090000
DTEND;TZID=America/Bogota:20260417T120000
DTSTAMP:20260408T205304Z
URL:https://www.conquito.org.ec/formacion/control-de-plagas-insectos-del-h
 uerto/
SUMMARY:Control de plagas-insectos del huerto
DESCRIPTION:Conocer los diferentes métodos de control de plagas y enfermed
 ades mediante la elaboración de insumos orgánicos caseros. 
ATTACH;FMTTYPE=image/jpeg:https://www.conquito.org.ec/wp-content/uploads/2
 025/03/CONTROL-DE-PLAGAS-INSECTOS.jpg
CATEGORIES:EPS
LOCATION:Centro de Innovación IQ\, Diego de Almagro y Luis Cordero\, Quito
 \, Ecuador
X-APPLE-STRUCTURED-LOCATION;VALUE=URI;X-ADDRESS=Diego de Almagro y Luis Cor
 dero\, Quito\, Ecuador;X-APPLE-RADIUS=100;X-TITLE=Centro de Innovación IQ
 :geo:0,0
END:VEVENT
BEGIN:VTIMEZONE
TZID:America/Bogota
X-LIC-LOCATION:America/Bogota
BEGIN:STANDARD
DTSTART:20250417T090000
TZOFFSETFROM:-0500
TZOFFSETTO:-0500
TZNAME:-05
END:STANDARD
END:VTIMEZONE
END:VCALENDAR