BEGIN:VCALENDAR
VERSION:2.0
PRODID:-//wp-events-plugin.com//7.2.3.1//EN
TZID:America/Guayaquil
X-WR-TIMEZONE:America/Guayaquil
BEGIN:VEVENT
UID:257@conquito.org.ec
DTSTART;TZID=America/Bogota:20260115T093000
DTEND;TZID=America/Bogota:20260115T120000
DTSTAMP:20260112T175148Z
URL:https://www.conquito.org.ec/formacion/beneficios-del-acuerdo-estrategi
 co-de-cooperacion-economica-seca-entre-ecuador-y-corea-del-sur/
SUMMARY:Beneficios del Acuerdo Estratégico de Cooperación Económica (SEC
 A) entre Ecuador y Corea del Sur
DESCRIPTION:Conoce oportunidades reales de innovación\, inversión y expan
 sión empresarial.
ATTACH;FMTTYPE=image/jpeg:https://www.conquito.org.ec/wp-content/uploads/2
 026/01/BENEFICIOS-DEL-ACUERDO-ESTRATEGICO.jpg
CATEGORIES:Emprendimiento
LOCATION:Centro de Innovación IQ\, Diego de Almagro y Luis Cordero\, Quito
 \, Ecuador
X-APPLE-STRUCTURED-LOCATION;VALUE=URI;X-ADDRESS=Diego de Almagro y Luis Cor
 dero\, Quito\, Ecuador;X-APPLE-RADIUS=100;X-TITLE=Centro de Innovación IQ
 :geo:0,0
END:VEVENT
BEGIN:VTIMEZONE
TZID:America/Bogota
X-LIC-LOCATION:America/Bogota
BEGIN:STANDARD
DTSTART:20250115T093000
TZOFFSETFROM:-0500
TZOFFSETTO:-0500
TZNAME:-05
END:STANDARD
END:VTIMEZONE
END:VCALENDAR