BEGIN:VCALENDAR
VERSION:2.0
PRODID:-//wp-events-plugin.com//7.2.3.1//EN
TZID:America/Guayaquil
X-WR-TIMEZONE:America/Guayaquil
BEGIN:VEVENT
UID:181@conquito.org.ec
DTSTART;TZID=America/Bogota:20260410T083000
DTEND;TZID=America/Bogota:20260508T123000
DTSTAMP:20260401T214058Z
URL:https://www.conquito.org.ec/formacion/agricultura-urbana-6/
SUMMARY:Agricultura Urbana Presencial
DESCRIPTION:Brindar todos los conocimientos técnicos para implementar un h
 uerto urbano con manejo orgánico  para generar alimentos sanos y nutritiv
 os\, aportando para la generación de sistemas alimentarios sostenibles y 
 resilientes en el DMQ.
ATTACH;FMTTYPE=image/jpeg:https://www.conquito.org.ec/wp-content/uploads/2
 026/04/AGRICULTURA-URBANA-DEL-10-DE-ABRIL-AL-8-DE-MAYO.jpg
CATEGORIES:EPS
LOCATION:ConQuito\, Av. Jaime del Castillo oe1-172\, Quito 170111\, Quito\,
  Pichincha\, 170111\, Ecuador
X-APPLE-STRUCTURED-LOCATION;VALUE=URI;X-ADDRESS=Av. Jaime del Castillo oe1-
 172\, Quito 170111\, Quito\, Pichincha\, 170111\, Ecuador;X-APPLE-RADIUS=1
 00;X-TITLE=ConQuito:geo:0,0
END:VEVENT
BEGIN:VTIMEZONE
TZID:America/Bogota
X-LIC-LOCATION:America/Bogota
BEGIN:STANDARD
DTSTART:20250410T083000
TZOFFSETFROM:-0500
TZOFFSETTO:-0500
TZNAME:-05
END:STANDARD
END:VTIMEZONE
END:VCALENDAR