BEGIN:VCALENDAR
VERSION:2.0
PRODID:-//wp-events-plugin.com//7.2.3.1//EN
TZID:America/Guayaquil
X-WR-TIMEZONE:America/Guayaquil
BEGIN:VEVENT
UID:182@conquito.org.ec
DTSTART;TZID=America/Bogota:20260410T140000
DTEND;TZID=America/Bogota:20260508T160000
DTSTAMP:20260401T214144Z
URL:https://www.conquito.org.ec/formacion/agricultura-urbana-5/
SUMMARY:Agricultura Urbana Virtual
DESCRIPTION:Brindar todos los conocimientos técnicos para implementar un h
 uerto urbano con manejo orgánico  para generar alimentos sanos y nutritiv
 os\, aportando para la generación de sistemas alimentarios sostenibles y 
 resilientes en el DMQ.
ATTACH;FMTTYPE=image/jpeg:https://www.conquito.org.ec/wp-content/uploads/2
 026/04/AGRICULTURA-URBANA-ZOOM.jpg
CATEGORIES:EPS
LOCATION:ZOOM\, Capacitación\, virtual\, Ecuador
X-APPLE-STRUCTURED-LOCATION;VALUE=URI;X-ADDRESS=Capacitación\, virtual\, E
 cuador;X-APPLE-RADIUS=100;X-TITLE=ZOOM:geo:0,0
END:VEVENT
BEGIN:VTIMEZONE
TZID:America/Bogota
X-LIC-LOCATION:America/Bogota
BEGIN:STANDARD
DTSTART:20250410T140000
TZOFFSETFROM:-0500
TZOFFSETTO:-0500
TZNAME:-05
END:STANDARD
END:VTIMEZONE
END:VCALENDAR